BEGIN:VCALENDAR
VERSION:2.0
PRODID:-//ChamberMaster//Event Calendar 2.0//EN
METHOD:PUBLISH
X-PUBLISHED-TTL:P1H
REFRESH-INTERVAL:P1H
CALSCALE:GREGORIAN
BEGIN:VTIMEZONE
TZID:America/New_York
BEGIN:DAYLIGHT
RRULE:FREQ=YEARLY;BYMONTH=3;BYDAY=2SU
DTSTART:20070101T000000
TZOFFSETFROM:-0500
TZOFFSETTO:-0400
TZNAME:Eastern Daylight Time
END:DAYLIGHT
BEGIN:STANDARD
RRULE:FREQ=YEARLY;BYMONTH=11;BYDAY=1SU
DTSTART:20070101T000000
TZOFFSETFROM:-0400
TZOFFSETTO:-0500
TZNAME:Eastern Standard Time
END:STANDARD
END:VTIMEZONE
BEGIN:VEVENT
DTSTART;TZID=America/New_York:20260826T000000
DTEND;TZID=America/New_York:20260826T000000
X-MICROSOFT-CDO-ALLDAYEVENT:FALSE
SUMMARY:IMPACT Procurement Series
DESCRIPTION:Procurement Readiness\nThis series is designed to support and empower small business owners and contractors\, while also providing our speakers with a platform to expand their visibility\, connect with new audiences\, and generate valuable business opportunities within our growing entrepreneurial ecosystem.\nFor mor information contact:\nNorman Velasquez\, Director Impact Entrepreneurship Services\, norman@ocalacep.com
X-ALT-DESC;FMTTYPE=text/html:Procurement Readiness\nThis series is designed to support and empower small business owners and contractors\, while also providing our speakers with a platform to expand their visibility\, connect with new audiences\, and generate valuable business opportunities within our growing entrepreneurial ecosystem.\nFor mor information contact:\nNorman Velasquez\, Director Impact Entrepreneurship Services\, norman@ocalacep.com
LOCATION:405 SE Osceola Ave\, Ocala\, FL 34471 Ocala 34471
UID:e.3532.1444690
SEQUENCE:3
DTSTAMP:20260421T094516Z
URL:https://members.ocalacep.com/eventcalendar/Details/impact-procurement-series-1711094?sourceTypeId=Hub
END:VEVENT
END:VCALENDAR
