BEGIN:VCALENDAR
VERSION:2.0
PRODID:-//ChamberMaster//Event Calendar 2.0//EN
METHOD:PUBLISH
X-PUBLISHED-TTL:P1H
REFRESH-INTERVAL:P1H
CALSCALE:GREGORIAN
BEGIN:VTIMEZONE
TZID:America/New_York
BEGIN:DAYLIGHT
RRULE:FREQ=YEARLY;BYMONTH=3;BYDAY=2SU
DTSTART:20070101T000000
TZOFFSETFROM:-0500
TZOFFSETTO:-0400
TZNAME:Eastern Daylight Time
END:DAYLIGHT
BEGIN:STANDARD
RRULE:FREQ=YEARLY;BYMONTH=11;BYDAY=1SU
DTSTART:20070101T000000
TZOFFSETFROM:-0400
TZOFFSETTO:-0500
TZNAME:Eastern Standard Time
END:STANDARD
END:VTIMEZONE
BEGIN:VEVENT
DTSTART;TZID=America/New_York:20260916T150000
DTEND;TZID=America/New_York:20260916T190000
X-MICROSOFT-CDO-ALLDAYEVENT:FALSE
SUMMARY:IMPACT Lender Matchmaker
DESCRIPTION:ARE YOU EREADY TO GROW YOUR BUSINESS?\nThe IMPACT Lender Matchmaker event is designed to connect Marion County small business owners with lending partners to foster access to capital\, strengthen banking relationships\, and support business growth. This event will provide structured opportunities for one-on-one and group engagement with lenders\, alongside educational programming and networking. Connect directly with banks and capital providers. Learning funding pathways. Build relationships that lead to real deals.
X-ALT-DESC;FMTTYPE=text/html:ARE YOU EREADY TO GROW YOUR BUSINESS?\nThe IMPACT Lender Matchmaker event is designed to connect Marion County small business owners with lending partners to foster access to capital\, strengthen banking relationships\, and support business growth. This event will provide structured opportunities for one-on-one and group engagement with lenders\, alongside educational programming and networking. Connect directly with banks and capital providers. Learning funding pathways. Build relationships that lead to real deals.
LOCATION:1821 NW 21st Ave Ocala 34475
UID:e.3532.1442761
SEQUENCE:3
DTSTAMP:20260421T094518Z
URL:https://members.ocalacep.com/eventcalendar/Details/impact-lender-matchmaker-1708880?sourceTypeId=Hub
END:VEVENT
END:VCALENDAR
