BEGIN:VCALENDAR
VERSION:2.0
PRODID:-//ChamberMaster//Event Calendar 2.0//EN
METHOD:PUBLISH
X-PUBLISHED-TTL:P1H
REFRESH-INTERVAL:P1H
CALSCALE:GREGORIAN
BEGIN:VTIMEZONE
TZID:America/New_York
BEGIN:DAYLIGHT
RRULE:FREQ=YEARLY;BYMONTH=3;BYDAY=2SU
DTSTART:20070101T000000
TZOFFSETFROM:-0500
TZOFFSETTO:-0400
TZNAME:Eastern Daylight Time
END:DAYLIGHT
BEGIN:STANDARD
RRULE:FREQ=YEARLY;BYMONTH=11;BYDAY=1SU
DTSTART:20070101T000000
TZOFFSETFROM:-0400
TZOFFSETTO:-0500
TZNAME:Eastern Standard Time
END:STANDARD
END:VTIMEZONE
BEGIN:VEVENT
DTSTART;TZID=America/New_York:20260617T110000
DTEND;TZID=America/New_York:20260617T130000
X-MICROSOFT-CDO-ALLDAYEVENT:FALSE
SUMMARY:IMPACT Financial Literacy Boot Camp
DESCRIPTION:Do you need funding to expand your business\, purchase a building\, or purchase new equipment? Here is where you need to be  IMPACT Financial Literacy Boot Camp.  Day 2 - June 17\,2026 - JP Morgan Chase Topic: The Power of Capital: Learn How to Fuel the Growth of Your Business Presenter: Janice Lopez Day 3 - August 19\, 2026 - South State Bank Topic: Measuring and Analyzing Financial Results to Enhance Profitability Presenter: Karen Hatch Bonus- Each Business owners that attend all three sessions will receive a Financial Literacy Certificate from OZK Bank & Ocala CEP. For more information: Evelyn Reyes evelyn@ocalacep.com. FREE event for all and any Marion County Business.
X-ALT-DESC;FMTTYPE=text/html:<!DOCTYPE html><html><head><title></title></head><body aria-disabled="false"><p>Do you need funding to expand your business\, purchase a building\, or purchase new equipment? Here is where you need to be&hellip\; IMPACT Financial Literacy Boot Camp. &nbsp\;Day 2 - June 17\,2026 - JP Morgan Chase Topic: The Power of Capital: Learn How to Fuel the Growth of Your Business Presenter: Janice Lopez Day 3 - August 19\, 2026 - South State Bank Topic: Measuring and Analyzing Financial Results to Enhance Profitability Presenter: Karen Hatch Bonus- Each Business owners that attend all three sessions will receive a Financial Literacy Certificate from OZK Bank &amp\; Ocala CEP. For more information: Evelyn Reyes evelyn@ocalacep.com. FREE event for all and any Marion County Business.</p></body></html>
LOCATION:405 SE Osceola Avenue ocala 34471
UID:e.3532.1442596
SEQUENCE:3
DTSTAMP:20260421T094545Z
URL:https://members.ocalacep.com/eventcalendar/Details/impact-financial-literacy-boot-camp-1708637?sourceTypeId=Hub
END:VEVENT
END:VCALENDAR
